Package: HDF5Array Version: 1.35.12 Command: /Library/Frameworks/R.framework/Resources/bin/R CMD check --install=check:HDF5Array.install-out.txt --library=/Library/Frameworks/R.framework/Resources/library --no-vignettes --timings HDF5Array_1.35.12.tar.gz StartedAt: 2025-02-12 19:40:02 -0500 (Wed, 12 Feb 2025) EndedAt: 2025-02-12 19:41:43 -0500 (Wed, 12 Feb 2025) EllapsedTime: 100.2 seconds RetCode: 0 Status: OK CheckDir: HDF5Array.Rcheck Warnings: 0