Package: HDF5Array Version: 1.35.12 Command: /Library/Frameworks/R.framework/Resources/bin/R CMD INSTALL HDF5Array StartedAt: 2025-02-09 15:03:44 -0500 (Sun, 09 Feb 2025) EndedAt: 2025-02-09 15:03:53 -0500 (Sun, 09 Feb 2025) EllapsedTime: 9.3 seconds RetCode: 0 Status: OK