Package: HDF5Array Version: 1.35.12 Command: rm -rf HDF5Array.buildbin-libdir && mkdir HDF5Array.buildbin-libdir && /Users/biocbuild/BBS/utils/build-universal.sh HDF5Array_1.35.12.tar.gz /Library/Frameworks/R.framework/Resources/bin/R HDF5Array.buildbin-libdir StartedAt: 2025-02-13 00:40:22 -0500 (Thu, 13 Feb 2025) EndedAt: 2025-02-13 00:40:57 -0500 (Thu, 13 Feb 2025) EllapsedTime: 34.5 seconds RetCode: 0 Status: OK PackageFile: HDF5Array_1.35.12.tgz PackageFileSize: 8.581 MiB