Package: HDF5Array Version: 1.35.12 Command: /Library/Frameworks/R.framework/Resources/bin/R CMD build --keep-empty-dirs --no-resave-data HDF5Array StartedAt: 2025-02-12 16:59:20 -0500 (Wed, 12 Feb 2025) EndedAt: 2025-02-12 17:14:15 -0500 (Wed, 12 Feb 2025) EllapsedTime: 894.9 seconds RetCode: 0 Status: OK PackageFile: HDF5Array_1.35.12.tar.gz PackageFileSize: 7.963 MiB