Package: HDF5Array Version: 1.35.12 Command: /Library/Frameworks/R.framework/Resources/bin/R CMD INSTALL HDF5Array StartedAt: 2025-02-12 15:11:46 -0500 (Wed, 12 Feb 2025) EndedAt: 2025-02-12 15:12:16 -0500 (Wed, 12 Feb 2025) EllapsedTime: 29.7 seconds RetCode: 0 Status: OK