Package: HDF5Array Version: 1.35.12 Command: /home/biocbuild/bbs-3.21-bioc/R/bin/R CMD check --install=check:HDF5Array.install-out.txt --library=/home/biocbuild/bbs-3.21-bioc/R/site-library --timings HDF5Array_1.35.12.tar.gz StartedAt: 2025-02-09 23:02:59 -0500 (Sun, 09 Feb 2025) EndedAt: 2025-02-09 23:42:59 -0500 (Sun, 09 Feb 2025) EllapsedTime: 2400.0 seconds RetCode: None Status: TIMEOUT CheckDir: HDF5Array.Rcheck Warnings: NA