Package: HDF5Array Version: 1.35.12 Command: E:\biocbuild\bbs-3.21-bioc\R\bin\R.exe CMD INSTALL HDF5Array StartedAt: 2025-02-12 15:52:20 -0500 (Wed, 12 Feb 2025) EndedAt: 2025-02-12 15:53:31 -0500 (Wed, 12 Feb 2025) EllapsedTime: 70.6 seconds RetCode: 0 Status: OK