Package: HELP Version: 1.65.0 Command: rm -rf HELP.buildbin-libdir && mkdir HELP.buildbin-libdir && E:\biocbuild\bbs-3.21-bioc\R\bin\R.exe CMD INSTALL --build --library=HELP.buildbin-libdir HELP_1.65.0.tar.gz StartedAt: 2025-02-10 07:54:46 -0500 (Mon, 10 Feb 2025) EndedAt: 2025-02-10 07:55:05 -0500 (Mon, 10 Feb 2025) EllapsedTime: 18.9 seconds RetCode: 0 Status: OK PackageFile: HELP_1.65.0.zip PackageFileSize: 1.016 MiB