Package: HERON Version: 1.5.0 Command: /Library/Frameworks/R.framework/Resources/bin/R CMD check --install=check:HERON.install-out.txt --library=/Library/Frameworks/R.framework/Resources/library --no-vignettes --timings HERON_1.5.0.tar.gz StartedAt: 2025-02-09 19:36:28 -0500 (Sun, 09 Feb 2025) EndedAt: 2025-02-09 19:38:28 -0500 (Sun, 09 Feb 2025) EllapsedTime: 119.5 seconds RetCode: 0 Status: OK CheckDir: HERON.Rcheck Warnings: 0