Package: HERON Version: 1.5.0 Command: /Library/Frameworks/R.framework/Resources/bin/R CMD INSTALL HERON StartedAt: 2025-02-09 15:22:40 -0500 (Sun, 09 Feb 2025) EndedAt: 2025-02-09 15:22:49 -0500 (Sun, 09 Feb 2025) EllapsedTime: 9.5 seconds RetCode: 0 Status: OK