Package: HERON Version: 1.5.0 Command: /home/biocbuild/R/R/bin/R CMD build --keep-empty-dirs --no-resave-data HERON StartedAt: 2025-01-28 23:33:16 -0000 (Tue, 28 Jan 2025) EndedAt: 2025-01-28 23:33:17 -0000 (Tue, 28 Jan 2025) EllapsedTime: 1.0 seconds RetCode: 1 Status: ERROR PackageFile: None PackageFileSize: NA