Package: HERON Version: 1.5.0 Command: /home/biocbuild/R/R/bin/R CMD INSTALL HERON StartedAt: 2025-01-29 20:22:13 -0000 (Wed, 29 Jan 2025) EndedAt: 2025-01-29 20:22:14 -0000 (Wed, 29 Jan 2025) EllapsedTime: 1.1 seconds RetCode: 1 Status: ERROR