Package: HERON Version: 1.5.0 Command: /Library/Frameworks/R.framework/Resources/bin/R CMD build --keep-empty-dirs --no-resave-data HERON StartedAt: 2025-02-04 16:59:17 -0500 (Tue, 04 Feb 2025) EndedAt: 2025-02-04 17:00:39 -0500 (Tue, 04 Feb 2025) EllapsedTime: 82.2 seconds RetCode: 0 Status: OK PackageFile: HERON_1.5.0.tar.gz PackageFileSize: 964.5 KiB