Package: HERON Version: 1.5.0 Command: /Library/Frameworks/R.framework/Resources/bin/R CMD check --install=check:HERON.install-out.txt --library=/Library/Frameworks/R.framework/Resources/library --no-vignettes --timings HERON_1.5.0.tar.gz StartedAt: 2025-02-04 20:59:44 -0500 (Tue, 04 Feb 2025) EndedAt: 2025-02-04 21:05:47 -0500 (Tue, 04 Feb 2025) EllapsedTime: 363.1 seconds RetCode: 0 Status: OK CheckDir: HERON.Rcheck Warnings: 0