Package: HERON Version: 1.5.0 Command: /Library/Frameworks/R.framework/Resources/bin/R CMD INSTALL HERON StartedAt: 2025-02-04 15:35:01 -0500 (Tue, 04 Feb 2025) EndedAt: 2025-02-04 15:35:29 -0500 (Tue, 04 Feb 2025) EllapsedTime: 28.1 seconds RetCode: 0 Status: OK