Package: HERON Version: 1.5.0 Command: /home/biocbuild/bbs-3.21-bioc/R/bin/R CMD build --keep-empty-dirs --no-resave-data HERON StartedAt: 2025-02-04 17:34:44 -0500 (Tue, 04 Feb 2025) EndedAt: 2025-02-04 17:35:55 -0500 (Tue, 04 Feb 2025) EllapsedTime: 71.1 seconds RetCode: 0 Status: OK PackageFile: HERON_1.5.0.tar.gz PackageFileSize: 964.6 KiB