Package: HERON Version: 1.5.0 Command: /home/biocbuild/bbs-3.21-bioc/R/bin/R CMD check --install=check:HERON.install-out.txt --library=/home/biocbuild/bbs-3.21-bioc/R/site-library --timings HERON_1.5.0.tar.gz StartedAt: 2025-02-04 23:03:24 -0500 (Tue, 04 Feb 2025) EndedAt: 2025-02-04 23:09:45 -0500 (Tue, 04 Feb 2025) EllapsedTime: 380.7 seconds RetCode: 0 Status: OK CheckDir: HERON.Rcheck Warnings: 0