Package: HERON Version: 1.5.0 Command: /home/biocbuild/bbs-3.21-bioc/R/bin/R CMD INSTALL HERON StartedAt: 2025-02-09 15:22:34 -0500 (Sun, 09 Feb 2025) EndedAt: 2025-02-09 15:22:56 -0500 (Sun, 09 Feb 2025) EllapsedTime: 22.0 seconds RetCode: 0 Status: OK