Package: HERON Version: 1.5.0 Command: chmod a+r HERON -R && E:\biocbuild\bbs-3.21-bioc\R\bin\R.exe CMD build --keep-empty-dirs --no-resave-data HERON StartedAt: 2025-02-09 19:12:25 -0500 (Sun, 09 Feb 2025) EndedAt: 2025-02-09 19:14:12 -0500 (Sun, 09 Feb 2025) EllapsedTime: 107.3 seconds RetCode: 0 Status: OK PackageFile: HERON_1.5.0.tar.gz PackageFileSize: 964.8 KiB