Package: HERON Version: 1.5.0 Command: E:\biocbuild\bbs-3.21-bioc\R\bin\R.exe CMD check --no-multiarch --install=check:HERON.install-out.txt --library=E:\biocbuild\bbs-3.21-bioc\R\library --no-vignettes --timings HERON_1.5.0.tar.gz StartedAt: 2025-02-04 02:20:56 -0500 (Tue, 04 Feb 2025) EndedAt: 2025-02-04 02:27:56 -0500 (Tue, 04 Feb 2025) EllapsedTime: 419.1 seconds RetCode: 0 Status: OK CheckDir: HERON.Rcheck Warnings: 0