Package: HGC Version: 1.15.0 Command: rm -rf HGC.buildbin-libdir && mkdir HGC.buildbin-libdir && /Users/biocbuild/BBS/utils/build-universal.sh HGC_1.15.0.tar.gz /Library/Frameworks/R.framework/Resources/bin/R HGC.buildbin-libdir StartedAt: 2025-02-12 22:22:30 -0500 (Wed, 12 Feb 2025) EndedAt: 2025-02-12 22:22:43 -0500 (Wed, 12 Feb 2025) EllapsedTime: 13.3 seconds RetCode: 0 Status: OK PackageFile: HGC_1.15.0.tgz PackageFileSize: 613.8 KiB