Package: HGC Version: 1.15.0 Command: /Library/Frameworks/R.framework/Resources/bin/R CMD build --keep-empty-dirs --no-resave-data HGC StartedAt: 2025-02-09 16:36:05 -0500 (Sun, 09 Feb 2025) EndedAt: 2025-02-09 16:36:19 -0500 (Sun, 09 Feb 2025) EllapsedTime: 14.1 seconds RetCode: 0 Status: OK PackageFile: HGC_1.15.0.tar.gz PackageFileSize: 540.2 KiB