Package: HGC Version: 1.15.0 Command: /home/biocbuild/R/R/bin/R CMD build --keep-empty-dirs --no-resave-data HGC StartedAt: 2025-01-28 23:33:17 -0000 (Tue, 28 Jan 2025) EndedAt: 2025-01-28 23:34:24 -0000 (Tue, 28 Jan 2025) EllapsedTime: 67.0 seconds RetCode: 0 Status: OK PackageFile: HGC_1.15.0.tar.gz PackageFileSize: 445.3 KiB