Package: HGC Version: 1.15.0 Command: rm -rf HGC.buildbin-libdir && mkdir HGC.buildbin-libdir && /Users/biocbuild/BBS/utils/build-universal.sh HGC_1.15.0.tar.gz /Library/Frameworks/R.framework/Resources/bin/R HGC.buildbin-libdir StartedAt: 2025-02-10 00:57:27 -0500 (Mon, 10 Feb 2025) EndedAt: 2025-02-10 00:58:13 -0500 (Mon, 10 Feb 2025) EllapsedTime: 46.2 seconds RetCode: 0 Status: OK PackageFile: HGC_1.15.0.tgz PackageFileSize: 621.1 KiB