Package: HGC Version: 1.15.0 Command: /Library/Frameworks/R.framework/Resources/bin/R CMD build --keep-empty-dirs --no-resave-data HGC StartedAt: 2025-02-09 17:03:16 -0500 (Sun, 09 Feb 2025) EndedAt: 2025-02-09 17:04:02 -0500 (Sun, 09 Feb 2025) EllapsedTime: 45.7 seconds RetCode: 0 Status: OK PackageFile: HGC_1.15.0.tar.gz PackageFileSize: 540.2 KiB