Package: HGC Version: 1.15.0 Command: /home/biocbuild/bbs-3.21-bioc/R/bin/R CMD INSTALL HGC StartedAt: 2025-02-09 15:10:15 -0500 (Sun, 09 Feb 2025) EndedAt: 2025-02-09 15:10:52 -0500 (Sun, 09 Feb 2025) EllapsedTime: 37.0 seconds RetCode: 0 Status: OK