Package: HGC Version: 1.15.0 Command: chmod a+r HGC -R && E:\biocbuild\bbs-3.21-bioc\R\bin\R.exe CMD build --keep-empty-dirs --no-resave-data HGC StartedAt: 2025-02-12 19:17:47 -0500 (Wed, 12 Feb 2025) EndedAt: 2025-02-12 19:18:55 -0500 (Wed, 12 Feb 2025) EllapsedTime: 68.6 seconds RetCode: 0 Status: OK PackageFile: HGC_1.15.0.tar.gz PackageFileSize: 396.1 KiB