Package: HGC Version: 1.15.0 Command: E:\biocbuild\bbs-3.21-bioc\R\bin\R.exe CMD check --no-multiarch --install=check:HGC.install-out.txt --library=E:\biocbuild\bbs-3.21-bioc\R\library --no-vignettes --timings HGC_1.15.0.tar.gz StartedAt: 2025-02-10 01:53:05 -0500 (Mon, 10 Feb 2025) EndedAt: 2025-02-10 01:57:14 -0500 (Mon, 10 Feb 2025) EllapsedTime: 249.7 seconds RetCode: 0 Status: WARNINGS CheckDir: HGC.Rcheck Warnings: 1