Package: HGC Version: 1.15.0 Command: E:\biocbuild\bbs-3.21-bioc\R\bin\R.exe CMD INSTALL HGC StartedAt: 2025-02-09 15:34:12 -0500 (Sun, 09 Feb 2025) EndedAt: 2025-02-09 15:35:00 -0500 (Sun, 09 Feb 2025) EllapsedTime: 48.7 seconds RetCode: 0 Status: OK