Package: HIBAG Version: 1.43.1 Command: /Library/Frameworks/R.framework/Resources/bin/R CMD build --keep-empty-dirs --no-resave-data HIBAG StartedAt: 2025-02-09 16:36:08 -0500 (Sun, 09 Feb 2025) EndedAt: 2025-02-09 16:36:21 -0500 (Sun, 09 Feb 2025) EllapsedTime: 13.1 seconds RetCode: 0 Status: OK PackageFile: HIBAG_1.43.1.tar.gz PackageFileSize: 1.813 MiB