Package: HIBAG Version: 1.43.1 Command: /Library/Frameworks/R.framework/Resources/bin/R CMD check --install=check:HIBAG.install-out.txt --library=/Library/Frameworks/R.framework/Resources/library --no-vignettes --timings HIBAG_1.43.1.tar.gz StartedAt: 2025-02-04 19:38:59 -0500 (Tue, 04 Feb 2025) EndedAt: 2025-02-04 19:39:26 -0500 (Tue, 04 Feb 2025) EllapsedTime: 27.4 seconds RetCode: 0 Status: OK CheckDir: HIBAG.Rcheck Warnings: 0