Package: HIBAG Version: 1.43.1 Command: /home/biocbuild/R/R/bin/R CMD build --keep-empty-dirs --no-resave-data HIBAG StartedAt: 2025-01-28 23:34:22 -0000 (Tue, 28 Jan 2025) EndedAt: 2025-01-28 23:35:14 -0000 (Tue, 28 Jan 2025) EllapsedTime: 52.0 seconds RetCode: 0 Status: OK PackageFile: HIBAG_1.43.1.tar.gz PackageFileSize: 1.457 MiB