Package: HIBAG Version: 1.43.1 Command: /home/biocbuild/R/R/bin/R CMD check --install=check:HIBAG.install-out.txt --library=/home/biocbuild/R/R/site-library --no-vignettes --timings HIBAG_1.43.1.tar.gz StartedAt: 2025-01-28 11:27:08 -0000 (Tue, 28 Jan 2025) EndedAt: 2025-01-28 11:28:07 -0000 (Tue, 28 Jan 2025) EllapsedTime: 59.1 seconds RetCode: 1 Status: ERROR CheckDir: HIBAG.Rcheck Warnings: NA