Package: HIBAG Version: 1.43.1 Command: rm -rf HIBAG.buildbin-libdir && mkdir HIBAG.buildbin-libdir && /Users/biocbuild/BBS/utils/build-universal.sh HIBAG_1.43.1.tar.gz /Library/Frameworks/R.framework/Resources/bin/R HIBAG.buildbin-libdir StartedAt: 2025-02-10 00:57:29 -0500 (Mon, 10 Feb 2025) EndedAt: 2025-02-10 00:58:04 -0500 (Mon, 10 Feb 2025) EllapsedTime: 34.6 seconds RetCode: 0 Status: OK PackageFile: HIBAG_1.43.1.tgz PackageFileSize: 2.21 MiB