Package: HIBAG Version: 1.43.1 Command: /Library/Frameworks/R.framework/Resources/bin/R CMD INSTALL HIBAG StartedAt: 2025-02-09 15:03:28 -0500 (Sun, 09 Feb 2025) EndedAt: 2025-02-09 15:03:49 -0500 (Sun, 09 Feb 2025) EllapsedTime: 20.2 seconds RetCode: 0 Status: OK