Package: HIBAG Version: 1.43.1 Command: /home/biocbuild/bbs-3.21-bioc/R/bin/R CMD build --keep-empty-dirs --no-resave-data HIBAG StartedAt: 2025-02-09 17:37:18 -0500 (Sun, 09 Feb 2025) EndedAt: 2025-02-09 17:38:00 -0500 (Sun, 09 Feb 2025) EllapsedTime: 42.1 seconds RetCode: 0 Status: OK PackageFile: HIBAG_1.43.1.tar.gz PackageFileSize: 1.786 MiB