Package: HIBAG Version: 1.43.1 Command: /home/biocbuild/bbs-3.21-bioc/R/bin/R CMD check --install=check:HIBAG.install-out.txt --library=/home/biocbuild/bbs-3.21-bioc/R/site-library --timings HIBAG_1.43.1.tar.gz StartedAt: 2025-02-09 23:05:36 -0500 (Sun, 09 Feb 2025) EndedAt: 2025-02-09 23:06:46 -0500 (Sun, 09 Feb 2025) EllapsedTime: 69.7 seconds RetCode: 0 Status: OK CheckDir: HIBAG.Rcheck Warnings: 0