Package: HIBAG Version: 1.43.1 Command: chmod a+r HIBAG -R && E:\biocbuild\bbs-3.21-bioc\R\bin\R.exe CMD build --keep-empty-dirs --no-resave-data HIBAG StartedAt: 2025-02-09 19:12:39 -0500 (Sun, 09 Feb 2025) EndedAt: 2025-02-09 19:14:11 -0500 (Sun, 09 Feb 2025) EllapsedTime: 91.8 seconds RetCode: 0 Status: OK PackageFile: HIBAG_1.43.1.tar.gz PackageFileSize: 1.286 MiB