Package: HIPPO Version: 1.19.0 Command: rm -rf HIPPO.buildbin-libdir && mkdir HIPPO.buildbin-libdir && /Users/biocbuild/BBS/utils/build-universal.sh HIPPO_1.19.0.tar.gz /Library/Frameworks/R.framework/Resources/bin/R HIPPO.buildbin-libdir StartedAt: 2025-02-09 22:17:28 -0500 (Sun, 09 Feb 2025) EndedAt: 2025-02-09 22:17:39 -0500 (Sun, 09 Feb 2025) EllapsedTime: 11.2 seconds RetCode: 0 Status: OK PackageFile: HIPPO_1.19.0.tgz PackageFileSize: 962.6 KiB