Package: HIPPO Version: 1.19.0 Command: /Library/Frameworks/R.framework/Resources/bin/R CMD build --keep-empty-dirs --no-resave-data HIPPO StartedAt: 2025-02-03 17:14:01 -0500 (Mon, 03 Feb 2025) EndedAt: 2025-02-03 17:14:17 -0500 (Mon, 03 Feb 2025) EllapsedTime: 16.1 seconds RetCode: 0 Status: OK PackageFile: HIPPO_1.19.0.tar.gz PackageFileSize: 646.6 KiB