Package: HIPPO Version: 1.19.0 Command: rm -rf HIPPO.buildbin-libdir && mkdir HIPPO.buildbin-libdir && /Users/biocbuild/BBS/utils/build-universal.sh HIPPO_1.19.0.tar.gz /Library/Frameworks/R.framework/Resources/bin/R HIPPO.buildbin-libdir StartedAt: 2025-02-05 00:44:13 -0500 (Wed, 05 Feb 2025) EndedAt: 2025-02-05 00:44:49 -0500 (Wed, 05 Feb 2025) EllapsedTime: 36.2 seconds RetCode: 0 Status: OK PackageFile: HIPPO_1.19.0.tgz PackageFileSize: 965 KiB