Package: HIPPO Version: 1.19.0 Command: /Library/Frameworks/R.framework/Resources/bin/R CMD INSTALL HIPPO StartedAt: 2025-02-04 15:11:33 -0500 (Tue, 04 Feb 2025) EndedAt: 2025-02-04 15:12:06 -0500 (Tue, 04 Feb 2025) EllapsedTime: 33.9 seconds RetCode: 0 Status: OK