Package: HIPPO Version: 1.19.0 Command: /home/biocbuild/bbs-3.21-bioc/R/bin/R CMD INSTALL HIPPO StartedAt: 2025-02-04 15:17:31 -0500 (Tue, 04 Feb 2025) EndedAt: 2025-02-04 15:17:57 -0500 (Tue, 04 Feb 2025) EllapsedTime: 25.1 seconds RetCode: 0 Status: OK