Package: HIPPO Version: 1.19.0 Command: rm -rf HIPPO.buildbin-libdir && mkdir HIPPO.buildbin-libdir && E:\biocbuild\bbs-3.21-bioc\R\bin\R.exe CMD INSTALL --build --library=HIPPO.buildbin-libdir HIPPO_1.19.0.tar.gz StartedAt: 2025-02-10 07:55:35 -0500 (Mon, 10 Feb 2025) EndedAt: 2025-02-10 07:56:14 -0500 (Mon, 10 Feb 2025) EllapsedTime: 38.9 seconds RetCode: 0 Status: OK PackageFile: HIPPO_1.19.0.zip PackageFileSize: 825.8 KiB