Package: HIPPO Version: 1.19.0 Command: chmod a+r HIPPO -R && E:\biocbuild\bbs-3.21-bioc\R\bin\R.exe CMD build --keep-empty-dirs --no-resave-data HIPPO StartedAt: 2025-02-09 19:15:24 -0500 (Sun, 09 Feb 2025) EndedAt: 2025-02-09 19:16:31 -0500 (Sun, 09 Feb 2025) EllapsedTime: 66.9 seconds RetCode: 0 Status: OK PackageFile: HIPPO_1.19.0.tar.gz PackageFileSize: 508.1 KiB