Package: HIPPO Version: 1.19.0 Command: E:\biocbuild\bbs-3.21-bioc\R\bin\R.exe CMD check --no-multiarch --install=check:HIPPO.install-out.txt --library=E:\biocbuild\bbs-3.21-bioc\R\library --no-vignettes --timings HIPPO_1.19.0.tar.gz StartedAt: 2025-02-10 01:58:00 -0500 (Mon, 10 Feb 2025) EndedAt: 2025-02-10 02:01:36 -0500 (Mon, 10 Feb 2025) EllapsedTime: 215.9 seconds RetCode: 0 Status: OK CheckDir: HIPPO.Rcheck Warnings: 0