Package: HMMcopy Version: 1.49.0 Command: /Library/Frameworks/R.framework/Resources/bin/R CMD INSTALL HMMcopy StartedAt: 2025-02-09 15:01:31 -0500 (Sun, 09 Feb 2025) EndedAt: 2025-02-09 15:01:37 -0500 (Sun, 09 Feb 2025) EllapsedTime: 6.0 seconds RetCode: 0 Status: OK