Package: HMMcopy Version: 1.49.0 Command: /home/biocbuild/R/R/bin/R CMD build --keep-empty-dirs --no-resave-data HMMcopy StartedAt: 2025-01-28 23:38:38 -0000 (Tue, 28 Jan 2025) EndedAt: 2025-01-28 23:38:58 -0000 (Tue, 28 Jan 2025) EllapsedTime: 20.0 seconds RetCode: 0 Status: OK PackageFile: HMMcopy_1.49.0.tar.gz PackageFileSize: 1.878 MiB