Package: HMMcopy Version: 1.49.0 Command: /home/biocbuild/R/R/bin/R CMD check --install=check:HMMcopy.install-out.txt --library=/home/biocbuild/R/R/site-library --no-vignettes --timings HMMcopy_1.49.0.tar.gz StartedAt: 2025-01-28 11:31:48 -0000 (Tue, 28 Jan 2025) EndedAt: 2025-01-28 11:32:17 -0000 (Tue, 28 Jan 2025) EllapsedTime: 29.0 seconds RetCode: 0 Status: WARNINGS CheckDir: HMMcopy.Rcheck Warnings: 1