Package: HMMcopy Version: 1.49.0 Command: rm -rf HMMcopy.buildbin-libdir && mkdir HMMcopy.buildbin-libdir && /Users/biocbuild/BBS/utils/build-universal.sh HMMcopy_1.49.0.tar.gz /Library/Frameworks/R.framework/Resources/bin/R HMMcopy.buildbin-libdir StartedAt: 2025-02-10 00:57:57 -0500 (Mon, 10 Feb 2025) EndedAt: 2025-02-10 00:58:06 -0500 (Mon, 10 Feb 2025) EllapsedTime: 9.2 seconds RetCode: 0 Status: OK PackageFile: HMMcopy_1.49.0.tgz PackageFileSize: 1.837 MiB